BEGIN:VCALENDAR
VERSION:2.0
PRODID:-//Eaton Village Residents&#039; Association - ECPv6.15.20//NONSGML v1.0//EN
CALSCALE:GREGORIAN
METHOD:PUBLISH
X-WR-CALNAME:Eaton Village Residents&#039; Association
X-ORIGINAL-URL:https://eatonvillage.co.uk
X-WR-CALDESC:Events for Eaton Village Residents&#039; Association
REFRESH-INTERVAL;VALUE=DURATION:PT1H
X-Robots-Tag:noindex
X-PUBLISHED-TTL:PT1H
BEGIN:VTIMEZONE
TZID:Europe/London
BEGIN:DAYLIGHT
TZOFFSETFROM:+0000
TZOFFSETTO:+0100
TZNAME:BST
DTSTART:20250330T010000
END:DAYLIGHT
BEGIN:STANDARD
TZOFFSETFROM:+0100
TZOFFSETTO:+0000
TZNAME:GMT
DTSTART:20251026T010000
END:STANDARD
BEGIN:DAYLIGHT
TZOFFSETFROM:+0000
TZOFFSETTO:+0100
TZNAME:BST
DTSTART:20260329T010000
END:DAYLIGHT
BEGIN:STANDARD
TZOFFSETFROM:+0100
TZOFFSETTO:+0000
TZNAME:GMT
DTSTART:20261025T010000
END:STANDARD
BEGIN:DAYLIGHT
TZOFFSETFROM:+0000
TZOFFSETTO:+0100
TZNAME:BST
DTSTART:20270328T010000
END:DAYLIGHT
BEGIN:STANDARD
TZOFFSETFROM:+0100
TZOFFSETTO:+0000
TZNAME:GMT
DTSTART:20271031T010000
END:STANDARD
END:VTIMEZONE
BEGIN:VEVENT
DTSTART;TZID=Europe/London:20260401T080000
DTEND;TZID=Europe/London:20260920T170000
DTSTAMP:20260422T092527
CREATED:20260415T170409Z
LAST-MODIFIED:20260415T170410Z
UID:5307-1775030400-1789923600@eatonvillage.co.uk
SUMMARY:I LOVE EATON photograph competition
DESCRIPTION:We are excited to announce the launch of our I Love Eaton Photo Competition!  \n\n\n\nEveryone is invited to take part and may submit up to two photographs capturing whatever makes you love Eaton most — whether that’s your family\, your home\, or a treasured place you love to visit. The competition will run from 1 April until 1 September\, after which we will invite the community to view the entries at a venue to be confirmed and cast their votes. Voting will also be available online via a Microsoft Teams form. Votes will close on the 20 September with the top 12 winners to feature in our I Love Eaton Calendar 2027\, which will be available to purchase at the Eaton Arts Fair on 10 October. \n\n\n\nThere is no age limit — everyone is warmly encouraged to submit. We’re incredibly excited and can’t wait to see your amazing entries! Click here for the poster:https://eatonvillage.co.uk/wp-content/uploads/2026/04/2026-03_EVRA_photo-comp_poster_A3.pdf \n\n\n\nClick here for the full Terms and Conditions:https://eatonvillage.co.uk/wp-content/uploads/2026/04/TCs-Photo-Competition.docx
URL:https://eatonvillage.co.uk/event/i-love-eaton-photograph-competition/
END:VEVENT
BEGIN:VEVENT
DTSTART;TZID=Europe/London:20260425T103000
DTEND;TZID=Europe/London:20260425T120000
DTSTAMP:20260422T092527
CREATED:20260406T165137Z
LAST-MODIFIED:20260406T165138Z
UID:5298-1777113000-1777118400@eatonvillage.co.uk
SUMMARY:Donkey Lane work session
DESCRIPTION:Donkey Lane is included in the Norwich City Community Garden Festival which celebrates outdoor spaces managed by local volunteers. The festival takes place over the weekend of 25th/26th April and involves 34 community groups and spaces around the City. Donkey Lane is a well used footpath between Greenways and Newmarket Road and the banks and verges have been managed by EVRA since 2015. You can read more about the project at: Friends of Donkey Lane – Eaton Village Residents’ Association \n\n\n\nThe EVRA Friends of Donkey Lane Group will be having a work session to tidy up along the Lane on the morning of Saturday 25th April and you are welcome to come and join us from 10:30 till noon. We will be clearing brambles before they get too big along with the Goose Grass (also known as: Cleavers\, Sticky Willy\, Stick-a-Back\, Catch Weed\, Coachweed\, Scratch Tongue) which is taking over some areas\, and also other tasks.  \n\n\n\nWe have some tools but bring work gloves if you have them and a drink. Dress for whatever weather we have on the day and be aware that you might get a bit mucky! Stout shoes would be useful for working on the steep banks. We will have a flask of hot water and tea and coffee and cups to make drinks and have a few biscuits. \n\n\n\nWe will meet at 10.30 on Donkey Lane behind the houses on Greenways\, at the bottom of the slope from Wentworth Green.
URL:https://eatonvillage.co.uk/event/donkey-lane-work-session-6/
LOCATION:Donkey Lane\, Eaton\, NR4 6PB
END:VEVENT
BEGIN:VEVENT
DTSTART;TZID=Europe/London:20260703T190000
DTEND;TZID=Europe/London:20260703T213000
DTSTAMP:20260422T092527
CREATED:20260128T195049Z
LAST-MODIFIED:20260128T195050Z
UID:5247-1783105200-1783114200@eatonvillage.co.uk
SUMMARY:EVRA QUIZ Night - 3rd July
DESCRIPTION:Join us for our first EVRA quiz of the year! \n\n\n\n£3 per person. Includes tea/coffee and some nibbles. Please do bring along your own drinks and snacks too! \n\n\n\nPrizes for 1st and 2nd place. \n\n\n\nCheck back nearer the time for booking info!
URL:https://eatonvillage.co.uk/event/evra-quiz-night-3rd-july/
END:VEVENT
END:VCALENDAR